Package: MetMashR Version: 1.1.0 Command: /home/biocbuild/R/R/bin/R CMD INSTALL MetMashR StartedAt: 2025-01-29 19:43:35 -0000 (Wed, 29 Jan 2025) EndedAt: 2025-01-29 19:44:21 -0000 (Wed, 29 Jan 2025) EllapsedTime: 45.5 seconds RetCode: 0 Status: OK