Package: MetMashR Version: 1.1.0 Command: /Library/Frameworks/R.framework/Resources/bin/R CMD build --keep-empty-dirs --no-resave-data MetMashR StartedAt: 2025-02-09 17:25:22 -0500 (Sun, 09 Feb 2025) EndedAt: 2025-02-09 17:31:24 -0500 (Sun, 09 Feb 2025) EllapsedTime: 362.1 seconds RetCode: 0 Status: OK PackageFile: MetMashR_1.1.0.tar.gz PackageFileSize: 6.194 MiB