Package: MetMashR Version: 1.1.0 Command: /home/biocbuild/bbs-3.21-bioc/R/bin/R CMD check --install=check:MetMashR.install-out.txt --library=/home/biocbuild/bbs-3.21-bioc/R/site-library --timings MetMashR_1.1.0.tar.gz StartedAt: 2025-02-10 00:04:19 -0500 (Mon, 10 Feb 2025) EndedAt: 2025-02-10 00:12:54 -0500 (Mon, 10 Feb 2025) EllapsedTime: 515.6 seconds RetCode: 0 Status: OK CheckDir: MetMashR.Rcheck Warnings: 0