Package: MetMashR Version: 1.1.0 Command: /home/biocbuild/bbs-3.21-bioc/R/bin/R CMD INSTALL MetMashR StartedAt: 2025-02-03 15:40:13 -0500 (Mon, 03 Feb 2025) EndedAt: 2025-02-03 15:40:45 -0500 (Mon, 03 Feb 2025) EllapsedTime: 32.0 seconds RetCode: 0 Status: OK