Package: MetMashR Version: 1.1.0 Command: rm -rf MetMashR.buildbin-libdir && mkdir MetMashR.buildbin-libdir && E:\biocbuild\bbs-3.21-bioc\R\bin\R.exe CMD INSTALL --build --library=MetMashR.buildbin-libdir MetMashR_1.1.0.tar.gz StartedAt: 2025-02-10 08:08:04 -0500 (Mon, 10 Feb 2025) EndedAt: 2025-02-10 08:09:53 -0500 (Mon, 10 Feb 2025) EllapsedTime: 109.5 seconds RetCode: 0 Status: OK PackageFile: MetMashR_1.1.0.zip PackageFileSize: 6.17 MiB