Package: MetMashR Version: 1.1.0 Command: chmod a+r MetMashR -R && E:\biocbuild\bbs-3.21-bioc\R\bin\R.exe CMD build --keep-empty-dirs --no-resave-data MetMashR StartedAt: 2025-02-09 19:51:46 -0500 (Sun, 09 Feb 2025) EndedAt: 2025-02-09 19:58:24 -0500 (Sun, 09 Feb 2025) EllapsedTime: 397.9 seconds RetCode: 0 Status: OK PackageFile: MetMashR_1.1.0.tar.gz PackageFileSize: 5.337 MiB