Package: MetMashR Version: 1.1.0 Command: E:\biocbuild\bbs-3.21-bioc\R\bin\R.exe CMD check --no-multiarch --install=check:MetMashR.install-out.txt --library=E:\biocbuild\bbs-3.21-bioc\R\library --no-vignettes --timings MetMashR_1.1.0.tar.gz StartedAt: 2025-02-10 02:51:33 -0500 (Mon, 10 Feb 2025) EndedAt: 2025-02-10 02:55:52 -0500 (Mon, 10 Feb 2025) EllapsedTime: 259.6 seconds RetCode: 0 Status: OK CheckDir: MetMashR.Rcheck Warnings: 0