Package: MetMashR Version: 1.1.0 Command: E:\biocbuild\bbs-3.21-bioc\R\bin\R.exe CMD INSTALL MetMashR StartedAt: 2025-02-09 16:16:48 -0500 (Sun, 09 Feb 2025) EndedAt: 2025-02-09 16:18:09 -0500 (Sun, 09 Feb 2025) EllapsedTime: 80.6 seconds RetCode: 0 Status: OK