Package: MetNet Version: 1.25.0 Command: /Library/Frameworks/R.framework/Resources/bin/R CMD build --keep-empty-dirs --no-resave-data MetNet StartedAt: 2025-02-09 17:25:28 -0500 (Sun, 09 Feb 2025) EndedAt: 2025-02-09 17:26:25 -0500 (Sun, 09 Feb 2025) EllapsedTime: 57.1 seconds RetCode: 0 Status: OK PackageFile: MetNet_1.25.0.tar.gz PackageFileSize: 4.097 MiB