Package: MetNet Version: 1.25.0 Command: /Library/Frameworks/R.framework/Resources/bin/R CMD INSTALL MetNet StartedAt: 2025-02-09 15:14:55 -0500 (Sun, 09 Feb 2025) EndedAt: 2025-02-09 15:15:30 -0500 (Sun, 09 Feb 2025) EllapsedTime: 35.1 seconds RetCode: 0 Status: OK