Package: MetNet Version: 1.25.0 Command: /home/biocbuild/bbs-3.21-bioc/R/bin/R CMD build --keep-empty-dirs --no-resave-data MetNet StartedAt: 2025-02-09 18:05:50 -0500 (Sun, 09 Feb 2025) EndedAt: 2025-02-09 18:06:37 -0500 (Sun, 09 Feb 2025) EllapsedTime: 47.0 seconds RetCode: 0 Status: OK PackageFile: MetNet_1.25.0.tar.gz PackageFileSize: 4.106 MiB