Package: MetNet Version: 1.25.0 Command: /home/biocbuild/bbs-3.21-bioc/R/bin/R CMD INSTALL MetNet StartedAt: 2025-02-09 15:31:49 -0500 (Sun, 09 Feb 2025) EndedAt: 2025-02-09 15:32:15 -0500 (Sun, 09 Feb 2025) EllapsedTime: 25.9 seconds RetCode: 0 Status: OK