Package: MetNet Version: 1.25.0 Command: rm -rf MetNet.buildbin-libdir && mkdir MetNet.buildbin-libdir && E:\biocbuild\bbs-3.21-bioc\R\bin\R.exe CMD INSTALL --build --library=MetNet.buildbin-libdir MetNet_1.25.0.tar.gz StartedAt: 2025-02-10 08:08:09 -0500 (Mon, 10 Feb 2025) EndedAt: 2025-02-10 08:09:05 -0500 (Mon, 10 Feb 2025) EllapsedTime: 56.0 seconds RetCode: 0 Status: OK PackageFile: MetNet_1.25.0.zip PackageFileSize: 4.114 MiB