Package: MetNet Version: 1.25.0 Command: chmod a+r MetNet -R && E:\biocbuild\bbs-3.21-bioc\R\bin\R.exe CMD build --keep-empty-dirs --no-resave-data MetNet StartedAt: 2025-02-09 19:52:16 -0500 (Sun, 09 Feb 2025) EndedAt: 2025-02-09 19:53:33 -0500 (Sun, 09 Feb 2025) EllapsedTime: 77.0 seconds RetCode: 0 Status: OK PackageFile: MetNet_1.25.0.tar.gz PackageFileSize: 3.833 MiB