Package: MetNet Version: 1.25.0 Command: E:\biocbuild\bbs-3.21-bioc\R\bin\R.exe CMD check --no-multiarch --install=check:MetNet.install-out.txt --library=E:\biocbuild\bbs-3.21-bioc\R\library --no-vignettes --timings MetNet_1.25.0.tar.gz StartedAt: 2025-02-10 02:51:54 -0500 (Mon, 10 Feb 2025) EndedAt: 2025-02-10 02:57:10 -0500 (Mon, 10 Feb 2025) EllapsedTime: 315.5 seconds RetCode: 0 Status: OK CheckDir: MetNet.Rcheck Warnings: 0