Package: MetaNeighbor Version: 1.27.0 Command: /Library/Frameworks/R.framework/Resources/bin/R CMD INSTALL MetaNeighbor StartedAt: 2025-02-12 15:05:53 -0500 (Wed, 12 Feb 2025) EndedAt: 2025-02-12 15:05:55 -0500 (Wed, 12 Feb 2025) EllapsedTime: 2.2 seconds RetCode: 0 Status: OK