Package: MetaNeighbor Version: 1.27.0 Command: E:\biocbuild\bbs-3.21-bioc\R\bin\R.exe CMD INSTALL MetaNeighbor StartedAt: 2025-02-12 16:16:11 -0500 (Wed, 12 Feb 2025) EndedAt: 2025-02-12 16:16:38 -0500 (Wed, 12 Feb 2025) EllapsedTime: 27.0 seconds RetCode: 0 Status: OK