Package: MetaPhOR Version: 1.9.0 Command: /Library/Frameworks/R.framework/Resources/bin/R CMD build --keep-empty-dirs --no-resave-data MetaPhOR StartedAt: 2025-02-09 17:22:15 -0500 (Sun, 09 Feb 2025) EndedAt: 2025-02-09 17:41:26 -0500 (Sun, 09 Feb 2025) EllapsedTime: 1150.8 seconds RetCode: 0 Status: OK PackageFile: MetaPhOR_1.9.0.tar.gz PackageFileSize: 2.739 MiB