Package: MetaPhOR Version: 1.9.0 Command: rm -rf MetaPhOR.buildbin-libdir && mkdir MetaPhOR.buildbin-libdir && E:\biocbuild\bbs-3.21-bioc\R\bin\R.exe CMD INSTALL --build --library=MetaPhOR.buildbin-libdir MetaPhOR_1.9.0.tar.gz StartedAt: 2025-02-10 08:06:42 -0500 (Mon, 10 Feb 2025) EndedAt: 2025-02-10 08:07:14 -0500 (Mon, 10 Feb 2025) EllapsedTime: 32.6 seconds RetCode: 0 Status: OK PackageFile: MetaPhOR_1.9.0.zip PackageFileSize: 2.209 MiB