Package: MetaPhOR Version: 1.9.0 Command: chmod a+r MetaPhOR -R && E:\biocbuild\bbs-3.21-bioc\R\bin\R.exe CMD build --keep-empty-dirs --no-resave-data MetaPhOR StartedAt: 2025-02-09 19:46:40 -0500 (Sun, 09 Feb 2025) EndedAt: 2025-02-09 20:06:29 -0500 (Sun, 09 Feb 2025) EllapsedTime: 1188.8 seconds RetCode: 0 Status: OK PackageFile: MetaPhOR_1.9.0.tar.gz PackageFileSize: 2.181 MiB