Package: MetaPhOR Version: 1.9.0 Command: E:\biocbuild\bbs-3.21-bioc\R\bin\R.exe CMD check --no-multiarch --install=check:MetaPhOR.install-out.txt --library=E:\biocbuild\bbs-3.21-bioc\R\library --no-vignettes --timings MetaPhOR_1.9.0.tar.gz StartedAt: 2025-02-10 02:43:55 -0500 (Mon, 10 Feb 2025) EndedAt: 2025-02-10 02:58:43 -0500 (Mon, 10 Feb 2025) EllapsedTime: 887.3 seconds RetCode: 0 Status: OK CheckDir: MetaPhOR.Rcheck Warnings: 0