Package: MetaPhOR Version: 1.9.0 Command: E:\biocbuild\bbs-3.21-bioc\R\bin\R.exe CMD INSTALL MetaPhOR StartedAt: 2025-02-09 16:02:09 -0500 (Sun, 09 Feb 2025) EndedAt: 2025-02-09 16:02:42 -0500 (Sun, 09 Feb 2025) EllapsedTime: 33.0 seconds RetCode: 0 Status: OK