Package: MetaboCoreUtils Version: 1.15.0 Command: /home/biocbuild/R/R/bin/R CMD build --keep-empty-dirs --no-resave-data MetaboCoreUtils StartedAt: 2025-01-29 00:07:54 -0000 (Wed, 29 Jan 2025) EndedAt: 2025-01-29 00:08:14 -0000 (Wed, 29 Jan 2025) EllapsedTime: 20.0 seconds RetCode: 0 Status: OK PackageFile: MetaboCoreUtils_1.15.0.tar.gz PackageFileSize: 935.7 KiB