Package: MetaboCoreUtils Version: 1.15.0 Command: /home/biocbuild/R/R/bin/R CMD check --install=check:MetaboCoreUtils.install-out.txt --library=/home/biocbuild/R/R/site-library --no-vignettes --timings MetaboCoreUtils_1.15.0.tar.gz StartedAt: 2025-01-28 12:12:40 -0000 (Tue, 28 Jan 2025) EndedAt: 2025-01-28 12:13:44 -0000 (Tue, 28 Jan 2025) EllapsedTime: 64.1 seconds RetCode: 0 Status: OK CheckDir: MetaboCoreUtils.Rcheck Warnings: 0