Package: MetaboCoreUtils Version: 1.15.0 Command: rm -rf MetaboCoreUtils.buildbin-libdir && mkdir MetaboCoreUtils.buildbin-libdir && /Users/biocbuild/BBS/utils/build-universal.sh MetaboCoreUtils_1.15.0.tar.gz /Library/Frameworks/R.framework/Resources/bin/R MetaboCoreUtils.buildbin-libdir StartedAt: 2025-02-10 01:01:38 -0500 (Mon, 10 Feb 2025) EndedAt: 2025-02-10 01:01:50 -0500 (Mon, 10 Feb 2025) EllapsedTime: 11.6 seconds RetCode: 0 Status: OK PackageFile: MetaboCoreUtils_1.15.0.tgz PackageFileSize: 1.083 MiB