Package: MetaboCoreUtils Version: 1.15.0 Command: /home/biocbuild/bbs-3.21-bioc/R/bin/R CMD INSTALL MetaboCoreUtils StartedAt: 2025-02-12 15:13:41 -0500 (Wed, 12 Feb 2025) EndedAt: 2025-02-12 15:13:46 -0500 (Wed, 12 Feb 2025) EllapsedTime: 5.1 seconds RetCode: 0 Status: OK