Package: MetaboCoreUtils Version: 1.15.0 Command: rm -rf MetaboCoreUtils.buildbin-libdir && mkdir MetaboCoreUtils.buildbin-libdir && E:\biocbuild\bbs-3.21-bioc\R\bin\R.exe CMD INSTALL --build --library=MetaboCoreUtils.buildbin-libdir MetaboCoreUtils_1.15.0.tar.gz StartedAt: 2025-02-10 08:06:11 -0500 (Mon, 10 Feb 2025) EndedAt: 2025-02-10 08:06:50 -0500 (Mon, 10 Feb 2025) EllapsedTime: 38.5 seconds RetCode: 0 Status: OK PackageFile: MetaboCoreUtils_1.15.0.zip PackageFileSize: 795.5 KiB