Package: MetaboCoreUtils Version: 1.15.0 Command: chmod a+r MetaboCoreUtils -R && E:\biocbuild\bbs-3.21-bioc\R\bin\R.exe CMD build --keep-empty-dirs --no-resave-data MetaboCoreUtils StartedAt: 2025-02-12 19:50:23 -0500 (Wed, 12 Feb 2025) EndedAt: 2025-02-12 19:50:54 -0500 (Wed, 12 Feb 2025) EllapsedTime: 30.4 seconds RetCode: 0 Status: OK PackageFile: MetaboCoreUtils_1.15.0.tar.gz PackageFileSize: 712.1 KiB