Package: MetaboDynamics Version: 0.99.18 Maintainer: Katja Danielzik MaintainerEmail: katja.danielzik at uni-due.de git_url: https://git.bioconductor.org/packages/MetaboDynamics git_branch: devel git_last_commit: 8ec64e1 git_last_commit_date: 2025-02-01 18:21:19 -0500 (Sat, 01 Feb 2025)