Package: MetaboDynamics Version: 0.99.18 Command: rm -rf MetaboDynamics.buildbin-libdir && mkdir MetaboDynamics.buildbin-libdir && /Users/biocbuild/BBS/utils/build-universal.sh MetaboDynamics_0.99.18.tar.gz /Library/Frameworks/R.framework/Resources/bin/R MetaboDynamics.buildbin-libdir StartedAt: 2025-02-04 22:22:07 -0500 (Tue, 04 Feb 2025) EndedAt: 2025-02-04 22:23:08 -0500 (Tue, 04 Feb 2025) EllapsedTime: 60.2 seconds RetCode: 0 Status: OK PackageFile: MetaboDynamics_0.99.18.tgz PackageFileSize: 4.815 MiB