Package: MetaboDynamics Version: 0.99.18 Command: /Library/Frameworks/R.framework/Resources/bin/R CMD build --keep-empty-dirs --no-resave-data MetaboDynamics StartedAt: 2025-02-09 16:51:04 -0500 (Sun, 09 Feb 2025) EndedAt: 2025-02-09 16:52:52 -0500 (Sun, 09 Feb 2025) EllapsedTime: 108.2 seconds RetCode: 0 Status: OK PackageFile: MetaboDynamics_0.99.18.tar.gz PackageFileSize: 4.047 MiB