Package: MetaboDynamics Version: 0.99.18 Command: /Library/Frameworks/R.framework/Resources/bin/R CMD check --install=check:MetaboDynamics.install-out.txt --library=/Library/Frameworks/R.framework/Resources/library --no-vignettes --timings MetaboDynamics_0.99.18.tar.gz StartedAt: 2025-02-09 21:46:05 -0500 (Sun, 09 Feb 2025) EndedAt: 2025-02-09 21:53:48 -0500 (Sun, 09 Feb 2025) EllapsedTime: 463.2 seconds RetCode: 0 Status: OK CheckDir: MetaboDynamics.Rcheck Warnings: 0