Package: MetaboDynamics Version: 0.99.18 Command: /Library/Frameworks/R.framework/Resources/bin/R CMD INSTALL MetaboDynamics StartedAt: 2025-02-09 15:11:06 -0500 (Sun, 09 Feb 2025) EndedAt: 2025-02-09 15:14:32 -0500 (Sun, 09 Feb 2025) EllapsedTime: 205.4 seconds RetCode: 0 Status: OK