Package: MetaboDynamics Version: 0.99.18 Command: /home/biocbuild/bbs-3.21-bioc/R/bin/R CMD check --install=check:MetaboDynamics.install-out.txt --library=/home/biocbuild/bbs-3.21-bioc/R/site-library --timings MetaboDynamics_0.99.18.tar.gz StartedAt: 2025-02-04 23:55:29 -0500 (Tue, 04 Feb 2025) EndedAt: 2025-02-05 00:07:13 -0500 (Wed, 05 Feb 2025) EllapsedTime: 703.8 seconds RetCode: 0 Status: OK CheckDir: MetaboDynamics.Rcheck Warnings: 0