Package: MetaboDynamics Version: 0.99.18 Command: E:\biocbuild\bbs-3.21-bioc\R\bin\R.exe CMD check --no-multiarch --install=check:MetaboDynamics.install-out.txt --library=E:\biocbuild\bbs-3.21-bioc\R\library --no-vignettes --timings MetaboDynamics_0.99.18.tar.gz StartedAt: 2025-02-05 03:09:17 -0500 (Wed, 05 Feb 2025) EndedAt: 2025-02-05 03:18:28 -0500 (Wed, 05 Feb 2025) EllapsedTime: 550.1 seconds RetCode: 0 Status: OK CheckDir: MetaboDynamics.Rcheck Warnings: 0