Package: MetaboDynamics Version: 0.99.18 Command: E:\biocbuild\bbs-3.21-bioc\R\bin\R.exe CMD INSTALL MetaboDynamics StartedAt: 2025-02-09 16:14:44 -0500 (Sun, 09 Feb 2025) EndedAt: 2025-02-09 16:23:11 -0500 (Sun, 09 Feb 2025) EllapsedTime: 507.7 seconds RetCode: 0 Status: OK