Package: MetaboSignal Version: 1.37.0 Command: rm -rf MetaboSignal.buildbin-libdir && mkdir MetaboSignal.buildbin-libdir && /Users/biocbuild/BBS/utils/build-universal.sh MetaboSignal_1.37.0.tar.gz /Library/Frameworks/R.framework/Resources/bin/R MetaboSignal.buildbin-libdir StartedAt: 2025-02-13 00:44:42 -0500 (Thu, 13 Feb 2025) EndedAt: 2025-02-13 00:45:55 -0500 (Thu, 13 Feb 2025) EllapsedTime: 73.0 seconds RetCode: 0 Status: OK PackageFile: MetaboSignal_1.37.0.tgz PackageFileSize: 2.648 MiB