Package: MetaboSignal Version: 1.37.0 Command: /Library/Frameworks/R.framework/Resources/bin/R CMD INSTALL MetaboSignal StartedAt: 2025-02-12 15:33:37 -0500 (Wed, 12 Feb 2025) EndedAt: 2025-02-12 15:34:45 -0500 (Wed, 12 Feb 2025) EllapsedTime: 68.6 seconds RetCode: 0 Status: OK