Package: MetaboSignal Version: 1.37.0 Command: /home/biocbuild/bbs-3.21-bioc/R/bin/R CMD INSTALL MetaboSignal StartedAt: 2025-02-12 15:42:14 -0500 (Wed, 12 Feb 2025) EndedAt: 2025-02-12 15:43:08 -0500 (Wed, 12 Feb 2025) EllapsedTime: 53.5 seconds RetCode: 0 Status: OK