Package: MetaboSignal Version: 1.37.0 Command: chmod a+r MetaboSignal -R && E:\biocbuild\bbs-3.21-bioc\R\bin\R.exe CMD build --keep-empty-dirs --no-resave-data MetaboSignal StartedAt: 2025-02-09 19:45:43 -0500 (Sun, 09 Feb 2025) EndedAt: 2025-02-09 19:48:00 -0500 (Sun, 09 Feb 2025) EllapsedTime: 137.3 seconds RetCode: 0 Status: OK PackageFile: MetaboSignal_1.37.0.tar.gz PackageFileSize: 2.089 MiB