Package: MetaboSignal Version: 1.37.0 Command: E:\biocbuild\bbs-3.21-bioc\R\bin\R.exe CMD check --no-multiarch --install=check:MetaboSignal.install-out.txt --library=E:\biocbuild\bbs-3.21-bioc\R\library --no-vignettes --timings MetaboSignal_1.37.0.tar.gz StartedAt: 2025-02-10 02:42:37 -0500 (Mon, 10 Feb 2025) EndedAt: 2025-02-10 02:49:33 -0500 (Mon, 10 Feb 2025) EllapsedTime: 415.6 seconds RetCode: 0 Status: OK CheckDir: MetaboSignal.Rcheck Warnings: 0