Package: MethPed Version: 1.35.0 Command: rm -rf MethPed.buildbin-libdir && mkdir MethPed.buildbin-libdir && /Users/biocbuild/BBS/utils/build-universal.sh MethPed_1.35.0.tar.gz /Library/Frameworks/R.framework/Resources/bin/R MethPed.buildbin-libdir StartedAt: 2025-02-09 22:20:31 -0500 (Sun, 09 Feb 2025) EndedAt: 2025-02-09 22:20:36 -0500 (Sun, 09 Feb 2025) EllapsedTime: 5.1 seconds RetCode: 0 Status: OK PackageFile: MethPed_1.35.0.tgz PackageFileSize: 9.315 MiB