Package: MethPed Version: 1.35.0 Command: /Library/Frameworks/R.framework/Resources/bin/R CMD INSTALL MethPed StartedAt: 2025-02-09 15:19:14 -0500 (Sun, 09 Feb 2025) EndedAt: 2025-02-09 15:19:17 -0500 (Sun, 09 Feb 2025) EllapsedTime: 3.1 seconds RetCode: 0 Status: OK