Package: MethPed Version: 1.35.0 Command: /Library/Frameworks/R.framework/Resources/bin/R CMD build --keep-empty-dirs --no-resave-data MethPed StartedAt: 2025-02-12 17:18:57 -0500 (Wed, 12 Feb 2025) EndedAt: 2025-02-12 17:20:44 -0500 (Wed, 12 Feb 2025) EllapsedTime: 107.1 seconds RetCode: 0 Status: OK PackageFile: MethPed_1.35.0.tar.gz PackageFileSize: 9.29 MiB