Package: MethPed Version: 1.35.0 Command: /Library/Frameworks/R.framework/Resources/bin/R CMD check --install=check:MethPed.install-out.txt --library=/Library/Frameworks/R.framework/Resources/library --no-vignettes --timings MethPed_1.35.0.tar.gz StartedAt: 2025-02-12 21:35:06 -0500 (Wed, 12 Feb 2025) EndedAt: 2025-02-12 21:38:49 -0500 (Wed, 12 Feb 2025) EllapsedTime: 223.2 seconds RetCode: 0 Status: OK CheckDir: MethPed.Rcheck Warnings: 0