Package: MethPed Version: 1.35.0 Command: /Library/Frameworks/R.framework/Resources/bin/R CMD INSTALL MethPed StartedAt: 2025-02-12 15:30:40 -0500 (Wed, 12 Feb 2025) EndedAt: 2025-02-12 15:30:49 -0500 (Wed, 12 Feb 2025) EllapsedTime: 8.7 seconds RetCode: 0 Status: OK