Package: MethPed Version: 1.35.0 Command: /home/biocbuild/bbs-3.21-bioc/R/bin/R CMD build --keep-empty-dirs --no-resave-data MethPed StartedAt: 2025-02-09 18:02:19 -0500 (Sun, 09 Feb 2025) EndedAt: 2025-02-09 18:03:54 -0500 (Sun, 09 Feb 2025) EllapsedTime: 95.1 seconds RetCode: 0 Status: OK PackageFile: MethPed_1.35.0.tar.gz PackageFileSize: 9.292 MiB