Package: MethPed Version: 1.35.0 Command: /home/biocbuild/bbs-3.21-bioc/R/bin/R CMD INSTALL MethPed StartedAt: 2025-02-09 15:13:47 -0500 (Sun, 09 Feb 2025) EndedAt: 2025-02-09 15:13:54 -0500 (Sun, 09 Feb 2025) EllapsedTime: 7.6 seconds RetCode: 0 Status: OK