Package: MethPed Version: 1.35.0 Command: chmod a+r MethPed -R && E:\biocbuild\bbs-3.21-bioc\R\bin\R.exe CMD build --keep-empty-dirs --no-resave-data MethPed StartedAt: 2025-02-09 19:47:42 -0500 (Sun, 09 Feb 2025) EndedAt: 2025-02-09 19:49:30 -0500 (Sun, 09 Feb 2025) EllapsedTime: 108.2 seconds RetCode: 0 Status: OK PackageFile: MethPed_1.35.0.tar.gz PackageFileSize: 9.192 MiB