Package: MethPed Version: 1.35.0 Command: E:\biocbuild\bbs-3.21-bioc\R\bin\R.exe CMD INSTALL MethPed StartedAt: 2025-02-12 15:54:51 -0500 (Wed, 12 Feb 2025) EndedAt: 2025-02-12 15:55:03 -0500 (Wed, 12 Feb 2025) EllapsedTime: 12.5 seconds RetCode: 0 Status: OK